BEGIN:VCALENDAR
VERSION:2.0
PRODID:-//PBRS - ECPv4.6.9//NONSGML v1.0//EN
CALSCALE:GREGORIAN
METHOD:PUBLISH
X-WR-CALNAME:PBRS
X-ORIGINAL-URL:https://www.pbrs.ac.nz
X-WR-CALDESC:Events for PBRS
BEGIN:VEVENT
DTSTART;VALUE=DATE:20170727
DTEND;VALUE=DATE:20170731
DTSTAMP:20260420T092050
CREATED:20170303T042829Z
LAST-MODIFIED:20170303T043800Z
UID:1311-1501113600-1501459199@www.pbrs.ac.nz
SUMMARY:National Salon 2017
DESCRIPTION:\n\n27th – 30th July 2017 at The Logan Campbell Centre\, ASB Showgrounds\, Auckland\nNZ Hospitality Championships 2017 Class Details\nThe Timetable and Class Criteria for 2017 will follow by the end of February.\n
URL:https://www.pbrs.ac.nz/event/national-salon-2017/
CATEGORIES:Events
END:VEVENT
END:VCALENDAR